BEGIN:VCALENDAR
VERSION:2.0
PRODID:-//HENRY&#039;S WORLDTOUR - ECPv6.15.13.1//NONSGML v1.0//EN
CALSCALE:GREGORIAN
METHOD:PUBLISH
X-WR-CALNAME:HENRY&#039;S WORLDTOUR
X-ORIGINAL-URL:https://henrys-worldtour.de
X-WR-CALDESC:Veranstaltungen für HENRY&#039;S WORLDTOUR
REFRESH-INTERVAL;VALUE=DURATION:PT1H
X-Robots-Tag:noindex
X-PUBLISHED-TTL:PT1H
BEGIN:VTIMEZONE
TZID:UTC
BEGIN:STANDARD
TZOFFSETFROM:+0000
TZOFFSETTO:+0000
TZNAME:UTC
DTSTART:20240101T000000
END:STANDARD
END:VTIMEZONE
BEGIN:VEVENT
DTSTART;TZID=UTC:20251025T193000
DTEND;TZID=UTC:20251025T213000
DTSTAMP:20260422T103043
CREATED:20251005T072546Z
LAST-MODIFIED:20251005T072546Z
UID:2534-1761420600-1761427800@henrys-worldtour.de
SUMMARY:Tansania: Leben und Engagement am Fuße des Kilimandscharo
DESCRIPTION:Multimedia-Vortrag „Tansania: Leben und Engagement am Fuße des Kilimandscharo“ \nErleben Sie einen faszinierenden Abend\, an dem der Griesheimer Henry Buchberger über sein Leben und Engagement in Tansania berichtet. Seit Januar 2024 lebt der 38-Jährige in Ostafrika und hat bereits während seiner Weltreise im Jahr 2023 fünf Monate in diesem beeindruckenden Land verbracht. In seinem 90-minütigen Vortrag wird er Sie auf eine Reise durch die vielfältige Kultur und atemberaubende Landschaft Tansanias mitnehmen. \nFreuen Sie sich auf spannende Einblicke in die Nationalparks des Landes\, die Heimat von Elefanten\, Löwen und Zebras\, sowie den majestätischen Kilimandscharo – Afrikas höchstem Berg. Henry Buchberger\, Vorsitzender der Hilfsorganisation Karibuni Watu\, teilt seine persönlichen Erfahrungen und erzählt von seinem täglichen Engagement für die Menschen in diesem Land. \nEntdecken Sie\, warum Tansania mehr ist als nur ein Reiseziel\, und lassen Sie sich von Henrys Leidenschaft für dieses Land anstecken. Dieser Vortrag bietet nicht nur interessante Fakten\, sondern auch inspirierende Geschichten aus dem Herzen Ostafrikas. Seien Sie gespannt auf einen Abend voller Neugier\, Abenteuer und neuer Perspektiven.
URL:https://henrys-worldtour.de/event/tansania-leben-und-engagement-am-fusse-des-kilimandscharo/
LOCATION:Bürgerhaus Linderbach\, Edmund-Schäfer-Platz 11\, Erfurt\, Thüringen\, 99098\, Germany
ATTACH;FMTTYPE=image/jpeg:https://henrys-worldtour.de/wp-content/uploads/2025/09/Jung-sein-am-Fusse-des-Kilimandscharo-Kopie.jpg
END:VEVENT
BEGIN:VEVENT
DTSTART;TZID=UTC:20251019T170000
DTEND;TZID=UTC:20251019T190000
DTSTAMP:20260422T103043
CREATED:20250914T190057Z
LAST-MODIFIED:20250914T190426Z
UID:2523-1760893200-1760900400@henrys-worldtour.de
SUMMARY:Multimedia-Vortrag „Tansania: Leben und Engagement am Fuße des Kilimandscharo“
DESCRIPTION:Erleben Sie einen faszinierenden Abend\, an dem ich über mein Leben und Engagement in Tansania berichtet. Seit Januar 2024 lebe ich in Ostafrika und habe bereits während meiner Weltreise im Jahr 2023 fünf Monate in diesem beeindruckenden Land verbracht. In meinem 90-minütigen Vortrag werde ich Sie auf eine Reise durch die vielfältige Kultur und atemberaubende Landschaft Tansanias mitnehmen. \nFreuen Sie sich auf spannende Einblicke in die Nationalparks des Landes\, die Heimat von Elefanten\, Löwen und Zebras\, sowie den majestätischen Kilimandscharo – Afrikas höchstem Berg. Ich\, Vorsitzender der Hilfsorganisation Karibuni Watu\, teile meine persönlichen Erfahrungen und erzähle von meinem täglichen Engagement für die Menschen in diesem Land. \nEntdecken Sie\, warum Tansania mehr ist als nur ein Reiseziel\, und lassen Sie sich von meiner Leidenschaft für dieses Land anstecken. Dieser Vortrag bietet nicht nur interessante Fakten\, sondern auch inspirierende Geschichten aus dem Herzen Ostafrikas. Seien Sie gespannt auf einen Abend voller Neugier\, Abenteuer und neuer Perspektiven. \nHIER ANMELDEN
URL:https://henrys-worldtour.de/event/multimedia-vortrag-tansania-leben-und-engagement-am-fusse-des-kilimandscharo-4/
LOCATION:Gemeindehaus in Gehren\, Untere Marktstraße 7\, Ilmenau OT Gehren\, Germany
ATTACH;FMTTYPE=image/jpeg:https://henrys-worldtour.de/wp-content/uploads/2025/09/Jung-sein-am-Fusse-des-Kilimandscharo-Kopie.jpg
END:VEVENT
BEGIN:VEVENT
DTSTART;TZID=UTC:20251018T193000
DTEND;TZID=UTC:20251018T213000
DTSTAMP:20260422T103043
CREATED:20250914T183526Z
LAST-MODIFIED:20250914T184636Z
UID:2510-1760815800-1760823000@henrys-worldtour.de
SUMMARY:„Jung sein am Fuße des Kilimandscharo“
DESCRIPTION:Was bedeutet es\, in Tansania jung zu sein? Welche Hoffnungen\, welche Herausforderungen und welche Träume prägen das Leben von Kindern\, Jugendlichen und jungen Erwachsenen am Fuße des Kilimandscharo? \nIn diesem Multimedia-Vortrag (etwas 90 Minuten) gebe ich Einblicke in den Alltag junger Menschen: in ihre Schulzeit\, ihre Ausbildungsmöglichkeiten\, ihre oftmals schwierigen Lebensumstände und die Unterstützung\, die sie – oder auch nicht – vom Staat erfahren. Dabei geht es nicht nur um Zahlen und Fakten\, sondern auch um persönliche Geschichten\, die bewegen und berühren. \nSeit Januar 2024 lebe ich in Tansania und engagiere mich dort ehrenamtlich für meine Organisation Karibuni Watu\, die sich insbesondere für Kinder\, Jugendliche und junge Erwachsene einsetzt – durch Bildung\, Sport und soziale Projekte. Auch darüber werde ich berichten. Besonders freue ich mich\, diesmal mit sehr großer Wahrscheinlichkeit nicht allein zu sprechen: Begleitet werde ich von meinem Spieler und Freund Dennis\, einem jungen Mann aus Tansania\, dessen großer Traum mit dem Fußball verbunden ist. In einem gemeinsamen Gespräch wird Dennis seine Sicht schildern und eigene Erfahrungen teilen – authentisch\, lebendig und aus der Perspektive eines jungen Menschen\, der in Tansania aufwächst. \nEine Einladung\, hinzuschauen\, zuzuhören und mitzufühlen. \nHIER ANMELDEN
URL:https://henrys-worldtour.de/event/jung-sein-am-fusse-des-kilimandscharo-3/
LOCATION:Saal Wildenspring\, Junkertalstraße 1\, Wildenspring\, Thüringen\, 98701
ATTACH;FMTTYPE=image/jpeg:https://henrys-worldtour.de/wp-content/uploads/2025/09/Jung-sein-am-Fusse-des-Kilimandscharo.jpg
END:VEVENT
BEGIN:VEVENT
DTSTART;TZID=UTC:20251017T193000
DTEND;TZID=UTC:20251017T213000
DTSTAMP:20260422T103043
CREATED:20250914T183350Z
LAST-MODIFIED:20250914T184552Z
UID:2508-1760729400-1760736600@henrys-worldtour.de
SUMMARY:„Jung sein am Fuße des Kilimandscharo“
DESCRIPTION:Was bedeutet es\, in Tansania jung zu sein? Welche Hoffnungen\, welche Herausforderungen und welche Träume prägen das Leben von Kindern\, Jugendlichen und jungen Erwachsenen am Fuße des Kilimandscharo? \nIn diesem Multimedia-Vortrag (etwas 90 Minuten) gebe ich Einblicke in den Alltag junger Menschen: in ihre Schulzeit\, ihre Ausbildungsmöglichkeiten\, ihre oftmals schwierigen Lebensumstände und die Unterstützung\, die sie – oder auch nicht – vom Staat erfahren. Dabei geht es nicht nur um Zahlen und Fakten\, sondern auch um persönliche Geschichten\, die bewegen und berühren. \nSeit Januar 2024 lebe ich in Tansania und engagiere mich dort ehrenamtlich für meine Organisation Karibuni Watu\, die sich insbesondere für Kinder\, Jugendliche und junge Erwachsene einsetzt – durch Bildung\, Sport und soziale Projekte. Auch darüber werde ich berichten. Besonders freue ich mich\, diesmal mit sehr großer Wahrscheinlichkeit nicht allein zu sprechen: Begleitet werde ich von meinem Spieler und Freund Dennis\, einem jungen Mann aus Tansania\, dessen großer Traum mit dem Fußball verbunden ist. In einem gemeinsamen Gespräch wird Dennis seine Sicht schildern und eigene Erfahrungen teilen – authentisch\, lebendig und aus der Perspektive eines jungen Menschen\, der in Tansania aufwächst. \nEine Einladung\, hinzuschauen\, zuzuhören und mitzufühlen. \nHIER ANMELDEN
URL:https://henrys-worldtour.de/event/jung-sein-am-fusse-des-kilimandscharo-2/
LOCATION:Landgasthaus ”Queen Victoria” in Griesheim\, Stadtilmer Str. 13\, Stadtilm\, Thüringen\, 99326\, Germany
ATTACH;FMTTYPE=image/jpeg:https://henrys-worldtour.de/wp-content/uploads/2025/09/Jung-sein-am-Fusse-des-Kilimandscharo.jpg
END:VEVENT
BEGIN:VEVENT
DTSTART;TZID=UTC:20251011T193000
DTEND;TZID=UTC:20251011T213000
DTSTAMP:20260422T103043
CREATED:20250914T185805Z
LAST-MODIFIED:20250914T185805Z
UID:2520-1760211000-1760218200@henrys-worldtour.de
SUMMARY:Multimedia-Vortrag „Tansania: Leben und Engagement am Fuße des Kilimandscharo“
DESCRIPTION:Erleben Sie einen faszinierenden Abend\, an dem ich über mein Leben und Engagement in Tansania berichtet. Seit Januar 2024 lebe ich in Ostafrika und habe bereits während meiner Weltreise im Jahr 2023 fünf Monate in diesem beeindruckenden Land verbracht. In meinem 90-minütigen Vortrag werde ich Sie auf eine Reise durch die vielfältige Kultur und atemberaubende Landschaft Tansanias mitnehmen. \nFreuen Sie sich auf spannende Einblicke in die Nationalparks des Landes\, die Heimat von Elefanten\, Löwen und Zebras\, sowie den majestätischen Kilimandscharo – Afrikas höchstem Berg. Ich\, Vorsitzender der Hilfsorganisation Karibuni Watu\, teile meine persönlichen Erfahrungen und erzähle von meinem täglichen Engagement für die Menschen in diesem Land. \nEntdecken Sie\, warum Tansania mehr ist als nur ein Reiseziel\, und lassen Sie sich von meiner Leidenschaft für dieses Land anstecken. Dieser Vortrag bietet nicht nur interessante Fakten\, sondern auch inspirierende Geschichten aus dem Herzen Ostafrikas. Seien Sie gespannt auf einen Abend voller Neugier\, Abenteuer und neuer Perspektiven. \nHIER ANMELDEN
URL:https://henrys-worldtour.de/event/multimedia-vortrag-tansania-leben-und-engagement-am-fusse-des-kilimandscharo-3/
LOCATION:Bürgerhaus Altenfeld\, Kirchstraße 2\, Großbreitenbach OT Altenfeld\, Thüringen\, 98701\, Germany
ATTACH;FMTTYPE=image/jpeg:https://henrys-worldtour.de/wp-content/uploads/2025/09/Jung-sein-am-Fusse-des-Kilimandscharo-Kopie.jpg
END:VEVENT
BEGIN:VEVENT
DTSTART;TZID=UTC:20251005T193000
DTEND;TZID=UTC:20251005T213000
DTSTAMP:20260422T103043
CREATED:20250914T185401Z
LAST-MODIFIED:20250914T185401Z
UID:2516-1759692600-1759699800@henrys-worldtour.de
SUMMARY:Multimedia-Vortrag „Tansania: Leben und Engagement am Fuße des Kilimandscharo“
DESCRIPTION:Erleben Sie einen faszinierenden Abend\, an dem ich über mein Leben und Engagement in Tansania berichtet. Seit Januar 2024 lebe ich in Ostafrika und habe bereits während meiner Weltreise im Jahr 2023 fünf Monate in diesem beeindruckenden Land verbracht. In meinem 90-minütigen Vortrag werde ich Sie auf eine Reise durch die vielfältige Kultur und atemberaubende Landschaft Tansanias mitnehmen. \nFreuen Sie sich auf spannende Einblicke in die Nationalparks des Landes\, die Heimat von Elefanten\, Löwen und Zebras\, sowie den majestätischen Kilimandscharo – Afrikas höchstem Berg. Ich\, Vorsitzender der Hilfsorganisation Karibuni Watu\, teile meine persönlichen Erfahrungen und erzähle von meinem täglichen Engagement für die Menschen in diesem Land. \nEntdecken Sie\, warum Tansania mehr ist als nur ein Reiseziel\, und lassen Sie sich von meiner Leidenschaft für dieses Land anstecken. Dieser Vortrag bietet nicht nur interessante Fakten\, sondern auch inspirierende Geschichten aus dem Herzen Ostafrikas. Seien Sie gespannt auf einen Abend voller Neugier\, Abenteuer und neuer Perspektiven. \nHIER ANMELDEN
URL:https://henrys-worldtour.de/event/multimedia-vortrag-tansania-leben-und-engagement-am-fusse-des-kilimandscharo-2/
LOCATION:Café im Schloss in Heringen/Helme\, Heringen/Helme\, Germany
ATTACH;FMTTYPE=image/jpeg:https://henrys-worldtour.de/wp-content/uploads/2025/09/Jung-sein-am-Fusse-des-Kilimandscharo-Kopie.jpg
END:VEVENT
BEGIN:VEVENT
DTSTART;TZID=UTC:20251004T193000
DTEND;TZID=UTC:20251004T213000
DTSTAMP:20260422T103043
CREATED:20250914T184000Z
LAST-MODIFIED:20250914T185443Z
UID:2512-1759606200-1759613400@henrys-worldtour.de
SUMMARY:Multimedia-Vortrag „Tansania: Leben und Engagement am Fuße des Kilimandscharo“
DESCRIPTION:Erleben Sie einen faszinierenden Abend\, an dem ich über mein Leben und Engagement in Tansania berichtet. Seit Januar 2024 lebe ich in Ostafrika und habe bereits während meiner Weltreise im Jahr 2023 fünf Monate in diesem beeindruckenden Land verbracht. In meinem 90-minütigen Vortrag werde ich Sie auf eine Reise durch die vielfältige Kultur und atemberaubende Landschaft Tansanias mitnehmen. \nFreuen Sie sich auf spannende Einblicke in die Nationalparks des Landes\, die Heimat von Elefanten\, Löwen und Zebras\, sowie den majestätischen Kilimandscharo – Afrikas höchstem Berg. Ich\, Vorsitzender der Hilfsorganisation Karibuni Watu\, teile meine persönlichen Erfahrungen und erzähle von meinem täglichen Engagement für die Menschen in diesem Land. \nEntdecken Sie\, warum Tansania mehr ist als nur ein Reiseziel\, und lassen Sie sich von meiner Leidenschaft für dieses Land anstecken. Dieser Vortrag bietet nicht nur interessante Fakten\, sondern auch inspirierende Geschichten aus dem Herzen Ostafrikas. Seien Sie gespannt auf einen Abend voller Neugier\, Abenteuer und neuer Perspektiven. \nHIER ANMELDEN
URL:https://henrys-worldtour.de/event/multimedia-vortrag-tansania-leben-und-engagement-am-fusse-des-kilimandscharo/
LOCATION:Jugendclubhaus in Nordhausen\, Käthe-Kollwitz-Str. 10\, Nordhausen\, Thüringen\, 99734\, Germany
ATTACH;FMTTYPE=image/jpeg:https://henrys-worldtour.de/wp-content/uploads/2025/09/Jung-sein-am-Fusse-des-Kilimandscharo-Kopie.jpg
END:VEVENT
BEGIN:VEVENT
DTSTART;TZID=UTC:20250927T193000
DTEND;TZID=UTC:20250927T213000
DTSTAMP:20260422T103043
CREATED:20250914T182439Z
LAST-MODIFIED:20250914T184744Z
UID:2502-1759001400-1759008600@henrys-worldtour.de
SUMMARY:„Jung sein am Fuße des Kilimandscharo“
DESCRIPTION:Was bedeutet es\, in Tansania jung zu sein? Welche Hoffnungen\, welche Herausforderungen und welche Träume prägen das Leben von Kindern\, Jugendlichen und jungen Erwachsenen am Fuße des Kilimandscharo? \nIn diesem Multimedia-Vortrag (etwas 90 Minuten) gebe ich Einblicke in den Alltag junger Menschen: in ihre Schulzeit\, ihre Ausbildungsmöglichkeiten\, ihre oftmals schwierigen Lebensumstände und die Unterstützung\, die sie – oder auch nicht – vom Staat erfahren. Dabei geht es nicht nur um Zahlen und Fakten\, sondern auch um persönliche Geschichten\, die bewegen und berühren. \nSeit Januar 2024 lebe ich in Tansania und engagiere mich dort ehrenamtlich für meine Organisation Karibuni Watu\, die sich insbesondere für Kinder\, Jugendliche und junge Erwachsene einsetzt – durch Bildung\, Sport und soziale Projekte. Auch darüber werde ich berichten. Besonders freue ich mich\, diesmal mit sehr großer Wahrscheinlichkeit nicht allein zu sprechen: Begleitet werde ich von meinem Spieler und Freund Dennis\, einem jungen Mann aus Tansania\, dessen großer Traum mit dem Fußball verbunden ist. In einem gemeinsamen Gespräch wird Dennis seine Sicht schildern und eigene Erfahrungen teilen – authentisch\, lebendig und aus der Perspektive eines jungen Menschen\, der in Tansania aufwächst. \nEine Einladung\, hinzuschauen\, zuzuhören und mitzufühlen. \nHIER ANMELDEN
URL:https://henrys-worldtour.de/event/jung-sein-am-fusse-des-kilimandscharo/
LOCATION:Rathaussaal in Stadtilm\, Straße der Einheit 1\, Stadtilm\, Thüringen\, 99326\, Germany
ATTACH;FMTTYPE=image/jpeg:https://henrys-worldtour.de/wp-content/uploads/2025/09/Jung-sein-am-Fusse-des-Kilimandscharo.jpg
END:VEVENT
END:VCALENDAR